BEGIN:VCALENDAR
VERSION:2.0
PRODID:-//wp-events-plugin.com//7.2.3.1//EN
TZID:Europe/Madrid
X-WR-TIMEZONE:Europe/Madrid
BEGIN:VEVENT
UID:42@educationusaspain.es
DTSTART;TZID=Europe/Madrid:20250227T173000
DTEND;TZID=Europe/Madrid:20250227T183000
DTSTAMP:20250123T104359Z
URL:https://educationusaspain.es/events/art-design-education-in-the-u-s/
SUMMARY:Art & Design Education in the U.S.
DESCRIPTION:Join us for a webinar on Art &amp\; Design Education in the US 
 to learn more about undergraduate and graduate studies (including degree a
 nd non-degree/short-term programs) available for international students. T
 he presentation will be given by a representative from The New School-Pars
 ons Paris.\n\nYou can register here: https://bit.ly/ArtDesignUS
ATTACH;FMTTYPE=image/jpeg:https://educationusaspain.es/wp-content/uploads/
 2025/01/ART-AND-DESIGN-EDUCATION-IN-THE-U.S.png
CATEGORIES:Grado y Postgrado
LOCATION:https://bit.ly/ArtDesignUS
END:VEVENT
BEGIN:VTIMEZONE
TZID:Europe/Madrid
X-LIC-LOCATION:Europe/Madrid
BEGIN:STANDARD
DTSTART:20241027T020000
TZOFFSETFROM:+0200
TZOFFSETTO:+0100
TZNAME:CET
END:STANDARD
END:VTIMEZONE
END:VCALENDAR