BEGIN:VCALENDAR
VERSION:2.0
PRODID:-//wp-events-plugin.com//7.2.3.1//EN
TZID:Europe/Madrid
X-WR-TIMEZONE:Europe/Madrid
BEGIN:VEVENT
UID:67@educationusaspain.es
DTSTART;TZID=Europe/Madrid:20260512T180000
DTEND;TZID=Europe/Madrid:20260512T190000
DTSTAMP:20260227T080212Z
URL:https://educationusaspain.es/events/los-5-pasos-a-seguir-para-estudiar
 -en-ee-uu-11/
SUMMARY:LOS 5 PASOS A SEGUIR PARA ESTUDIAR EN EE.UU.
DESCRIPTION:Sesión informativa sobre el proceso para estudiar tu grado o p
 ostgrado en EE.UU. Podrás hablar directamente y consultar todas tus dudas
  con un miembro de nuestro equipo de asesoramiento. \n\nTemática:\n\n 	L
 as ventajas de estudiar en EE.UU.\n 	Cómo elegir la universidad y el prog
 rama adecuado para ti\n 	Formas de financiar los estudios\n 	Procesos de s
 olicitud de admisión y fechas importantes\n 	Visado\n 	Preparativos de vi
 aje\n\nLa presentación será en castellano.\nThe webinar will be in Spani
 sh.\n\nPuedes registrarte aquí. \n\nIf you are not able to follow the se
 ssion in Spanish\, please\, check our global website to locate the Educati
 onUSA center closest to your place of residence. You can reach out to them
  with any questions about US studies.
ATTACH;FMTTYPE=image/jpeg:https://educationusaspain.es/wp-content/uploads/
 2023/08/5-Steps-Thumbnail.png
CATEGORIES:Grado y Postgrado
LOCATION:https://us02web.zoom.us/webinar/register/WN_34KFTLR8RTGv7rQttAMSaA
END:VEVENT
BEGIN:VTIMEZONE
TZID:Europe/Madrid
X-LIC-LOCATION:Europe/Madrid
BEGIN:DAYLIGHT
DTSTART:20260329T030000
TZOFFSETFROM:+0100
TZOFFSETTO:+0200
TZNAME:CEST
END:DAYLIGHT
END:VTIMEZONE
END:VCALENDAR